BEGIN:VCALENDAR
VERSION:2.0
PRODID:-//Vincent Fink - ECPv6.15.20//NONSGML v1.0//EN
CALSCALE:GREGORIAN
METHOD:PUBLISH
X-ORIGINAL-URL:https://vincentfink.com
X-WR-CALDESC:Events for Vincent Fink
REFRESH-INTERVAL;VALUE=DURATION:PT1H
X-Robots-Tag:noindex
X-PUBLISHED-TTL:PT1H
BEGIN:VTIMEZONE
TZID:America/Chicago
BEGIN:DAYLIGHT
TZOFFSETFROM:-0600
TZOFFSETTO:-0500
TZNAME:CDT
DTSTART:20180311T080000
END:DAYLIGHT
BEGIN:STANDARD
TZOFFSETFROM:-0500
TZOFFSETTO:-0600
TZNAME:CST
DTSTART:20181104T070000
END:STANDARD
BEGIN:DAYLIGHT
TZOFFSETFROM:-0600
TZOFFSETTO:-0500
TZNAME:CDT
DTSTART:20190310T080000
END:DAYLIGHT
BEGIN:STANDARD
TZOFFSETFROM:-0500
TZOFFSETTO:-0600
TZNAME:CST
DTSTART:20191103T070000
END:STANDARD
BEGIN:DAYLIGHT
TZOFFSETFROM:-0600
TZOFFSETTO:-0500
TZNAME:CDT
DTSTART:20200308T080000
END:DAYLIGHT
BEGIN:STANDARD
TZOFFSETFROM:-0500
TZOFFSETTO:-0600
TZNAME:CST
DTSTART:20201101T070000
END:STANDARD
END:VTIMEZONE
BEGIN:VEVENT
DTSTART;TZID=America/Chicago:20190314T183000
DTEND;TZID=America/Chicago:20190314T210000
DTSTAMP:20260422T230521
CREATED:20190302T205947Z
LAST-MODIFIED:20190311T185045Z
UID:4997-1552588200-1552597200@vincentfink.com
SUMMARY:π (Pi) Day Celebration 2019
DESCRIPTION:We love pizza\, we got π shirts\, we just need you!\nIf you’re in the area and want to have a Pi Day celebration with us\, we’re going to order some pizza from none other than Pi Pizza\, have a few cold ones\, and watch/talk through one of my favorite indie films\, “π”! Its seriously a movie that changed my life. \n  \n  \n  \n  \n  \n \nπ Party info:\nwhen:  March 14th\n6:30pm-9:00pm\nmovie starts 7ish\nwhere: 2101 Winter St. Studio B8\nHouston\, TX 77007\nEntrance B\, mid-breezeway\, facing rail tracks\ncost: Free w/ purchase of 1 Pi Chart shirt per person.\n*private party\, but feel free to bring a couple friends. \nAll you need is 1 Pi shirt per person to get in.\nBuy your Pi Chart shirt now! \nWe will have the shirts there as well in case you forget\, but just get one now! You can also get one at Space Montrose\, the shop in town that stocks all our latest swag. \nPlease RSVP via email so we know how much Pizza\, your favorite toppings\, & # of seats we need! If you plan on buying your shirt here let us know your size(s) so we can make sure we reserve ’em!
URL:https://vincentfink.com/event/%cf%80-pi-day-celebration-2019/
LOCATION:Vincent Fink Art/ Point506\, 2101 Winter St. #B8\, Houston\, TX\, 77007\, United States
ATTACH;FMTTYPE=image/jpeg:https://vincentfink.com/wp-content/uploads/2014/06/pi-chart-ad.jpg
END:VEVENT
END:VCALENDAR