BEGIN:VCALENDAR
VERSION:2.0
PRODID:-//Vincent Fink - ECPv6.15.20//NONSGML v1.0//EN
CALSCALE:GREGORIAN
METHOD:PUBLISH
X-ORIGINAL-URL:https://vincentfink.com
X-WR-CALDESC:Events for Vincent Fink
REFRESH-INTERVAL;VALUE=DURATION:PT1H
X-Robots-Tag:noindex
X-PUBLISHED-TTL:PT1H
BEGIN:VTIMEZONE
TZID:America/Chicago
BEGIN:DAYLIGHT
TZOFFSETFROM:-0600
TZOFFSETTO:-0500
TZNAME:CDT
DTSTART:20200308T080000
END:DAYLIGHT
BEGIN:STANDARD
TZOFFSETFROM:-0500
TZOFFSETTO:-0600
TZNAME:CST
DTSTART:20201101T070000
END:STANDARD
BEGIN:DAYLIGHT
TZOFFSETFROM:-0600
TZOFFSETTO:-0500
TZNAME:CDT
DTSTART:20210314T080000
END:DAYLIGHT
BEGIN:STANDARD
TZOFFSETFROM:-0500
TZOFFSETTO:-0600
TZNAME:CST
DTSTART:20211107T070000
END:STANDARD
BEGIN:DAYLIGHT
TZOFFSETFROM:-0600
TZOFFSETTO:-0500
TZNAME:CDT
DTSTART:20220313T080000
END:DAYLIGHT
BEGIN:STANDARD
TZOFFSETFROM:-0500
TZOFFSETTO:-0600
TZNAME:CST
DTSTART:20221106T070000
END:STANDARD
END:VTIMEZONE
BEGIN:VTIMEZONE
TZID:America/Chicago
BEGIN:DAYLIGHT
TZOFFSETFROM:-0600
TZOFFSETTO:-0500
TZNAME:CDT
DTSTART:20200308T080000
END:DAYLIGHT
BEGIN:STANDARD
TZOFFSETFROM:-0500
TZOFFSETTO:-0600
TZNAME:CST
DTSTART:20201101T070000
END:STANDARD
BEGIN:DAYLIGHT
TZOFFSETFROM:-0600
TZOFFSETTO:-0500
TZNAME:CDT
DTSTART:20210314T080000
END:DAYLIGHT
BEGIN:STANDARD
TZOFFSETFROM:-0500
TZOFFSETTO:-0600
TZNAME:CST
DTSTART:20211107T070000
END:STANDARD
BEGIN:DAYLIGHT
TZOFFSETFROM:-0600
TZOFFSETTO:-0500
TZNAME:CDT
DTSTART:20220313T080000
END:DAYLIGHT
BEGIN:STANDARD
TZOFFSETFROM:-0500
TZOFFSETTO:-0600
TZNAME:CST
DTSTART:20221106T070000
END:STANDARD
END:VTIMEZONE
BEGIN:VEVENT
DTSTART;TZID=America/Chicago:20210807T163000
DTEND;TZID=America/Chicago:20210807T193000
DTSTAMP:20260420T212125
CREATED:20210728T171729Z
LAST-MODIFIED:20210730T163910Z
UID:6384-1628353800-1628364600@vincentfink.com
SUMMARY:White Linen Night in the Heights 2021
DESCRIPTION:White Linen Night takes place from 6-10 p.m. in the 200 and 300 blocks of 19th Street. \nJoin us for free live music\, games\, and drinks for the whole family to enjoy! Heights Mercantile retailers will have drinks\, promos\, photo stations\, and an art market outside that I will be participating in. \nDon ye now thy gay apparel in the shade of white in the form of linen to celebrate this day of fun and commerce!
URL:https://vincentfink.com/event/white-linen-night-in-the-heights-2021/
LOCATION:Heights Mercantile\, 711 Yale St.\, Houston\, TX\, 77007\, United States
ATTACH;FMTTYPE=image/jpeg:https://vincentfink.com/wp-content/uploads/2021/07/white-linen-night-2.jpg
END:VEVENT
BEGIN:VEVENT
DTSTART;TZID=America/Chicago:20210814T110000
DTEND;TZID=America/Chicago:20210814T170000
DTSTAMP:20260420T212125
CREATED:20210520T190643Z
LAST-MODIFIED:20210524T024822Z
UID:6270-1628938800-1628960400@vincentfink.com
SUMMARY:The BIG Show - Lawndale Art Center Closing
DESCRIPTION:On view Saturday\, June 19 – Saturday\, August 14\, 2021\n\nLawndale Art Center is pleased to announce the artists and Preview Party for the 2021 iteration of The Big Show\, our ambitious annual exhibition of new work by artists practicing within a 100-mile radius of Lawndale. For the 2021 exhibition\, juror Cecilia Fajardo-Hill selected 212 works by 182 artists from over 500 submissions.\n\n\nFeatured Artists\n\nIsela Aguirre\, Josh Alan\, Erika Alonso\, Carolina Amat\, T.C. Anderson\, Asaeda\, Miguel Avila\, Melissa Aytenfisu\, JJ Baker\, Emma Balder\, Ryan Baptiste\, Darla Barolini\, Natalia Barrientos\, Jennifer Battaglia\, Francesca Bayegan\, Bert Bertonaschi\, Vincent Blair\, Liz Bomba-Bloom\, Devon Britt-Darby\, Betty-Ann Brose\, Rodney Butler\, Valerie Burkes\, Claire Chauvin\, Ahro Cho\, Sheng Kuan Chung\, Mary Ciani\, Catherine Colangelo\, Katie Coleman\, Paula Cordoba\, Angela Corson\, Esther Delaquis-Baidoo\, Ashleigh Denton\, Mychon Deslandes\, Jill Dietrich\, Kathy Drago\, Claire Drennan\, Luisa Duarte\, Roslyn M. Dupre\, Claire Elestwani\, Rafael Elorza\, Cary Fagan\, Orna Feinstein\, Eddie Filer Jr.\, Vincent Fink\, Steve Fisher\, Lilibeth Flores\, Richard E Fluhr\, Amber Free\, David Fulton\, Erika Whitney G.\, Amanda Gandy\, Veronica Gaona\, Tere Garcia\, Liz Gates\, Cynthia Jamileth Giron\, Hallie Gluk\, Terri Golas\, Clarissa Gonzalez\, Kelvin Goodings\, Shaun Griffiths\, Cheryl Gryta\, Erik Hagen\, Linda Harmes\, Stephen Harmon\, Peter Healy\, Silvina Hecker\, Mark Hellinger\, Guadalupe Hernandez\, Marisa Cigarroa Heymach\, Karen Hillier\, George Hixson\, Clara Hoag\, Wes Holloway\, Hong Hong\, Belem Hooker\, Shang-Yi Hua\, Yu-Ru Huang\, Katherine Huff\, Cedric Ingram\, Hedwige Jacobs\, Jeanne Jones\, Holly Josey\, Cindee Travis Klement\, Barry Krammes\, Jaimie Ladysh\, Cairus Larsen\, Las Girls Collective\, Melinda Laszczynski\, Rachelle LeBlanc\, Erica Reed Lee\, Liana Lee\, MoNique LeRoux\, Ron S. Levy\, Steve Louis\, Elias John Lytton\, Ruhee Maknojia\, Matt Manalo\, Ash Margaret\, Jennifer K. G. Martin\, Catherine Martinez\, Victoria Martinez\, Colleen Maynard\, Ken Mazzu\, Rachel McCleary\, Pat McEnery\, Falon Mihalic\, Austin Miller\, Riley Miller\, Demi Mixon\, Vanessa Monokian\, Madison Moore\, Lorena Morales\, Suzette Mouchaty\, Mujeres Malas\, Elaine Matte Mut\, P.M. Neist\, Margaret O’Brien-Nelson\, Victoria Nguyen\, Carlos Ocando\, Mari Omori\, Ron Oppenheimer\, Monty Orr\, Carolina Otero\, Anthony Pabillano\, Evan Pardue\, Bruce Park\, Sydney Parks\, Thomas Perry\, Kiera Jane Porter\, Rosibel Ramirez\, Stephanie Ramirez\, Cary Reeder\, Bismark Alejandro Reyes\, Carolina Roberts\, Romeo C. Robinson\, Anastasia Rodriguez\, Justin Raphael Roykovich\, Kiersten Rucker\, Janet Ruffin\, Radu Runcanu\, Steven Sachs\, Ann Sandberg\, Kay Sarver\, A.M. Schaer\, Wade Schmitz\, Herbert Shapiro\, Sanjay Sharma\, Loren Siems\, David Silva\, Rusy Singh\, Tra´ Slaughter\, La’Toya Smith\, Susan Weems Smith\, Taylor Smith\, Graciela Socorro\, Gretchen Bender Sparks\, S.G. Starr\, Benji Stiles\, Evan Stoler\, Saralene Tapley\, Tommy Taylor\, Cassandra Thibodeaux\, Gerald Thorp\, Jennifer Traina-Dorge\, Deasa Turner\, Laurence Unger\, Chet Urban\, Justin Varner\, Cecilia Villanueva\, H. David Waddell\, Holly Lyn Walrath\, Joyce Matula Welch\, Mary Wemple\, Joachim West\, Michelle Whitney\, Geraldina Interiano Wise\, June Woest\, Madyson Ysasaga\, Alex Zapata\, Jo Zider\n\n\n\nAbout the Juror\n\nCecilia Fajardo-Hill is a British/Venezuelan art historian and curator in modern and contemporary art\, currently based in Southern California. Fajardo-Hill has a Ph.D. in Art History from the University of Essex\, England\, and an MA in 20th Century Art History from the Courtauld Institute of Art\, London\, England.\n\nFajardo-Hill was co-curator of Radical Women: Latin American Art 1960-1985\, Hammer Museum\, Los Angeles\, 2017\, and is the co-curator of the upcoming XicanXperimental\, organized by the American Federation of Arts\, 2022. She is Visiting Scholar at the Chicano Studies Research Center de UCLA\, Los Angeles. In 2020 she received the Andy Warhol Foundation Arts Writers Grant and will be a Clark Fellow in residence at the Clark Art Institute\, Williamstown in fall of 2021.
URL:https://vincentfink.com/event/the-big-show-2021-lawndale-art-center/
LOCATION:Lawndale Art Center\, 4912 Main St\, Houston\, TX\, 77002\, United States
ATTACH;FMTTYPE=image/jpeg:https://vincentfink.com/wp-content/uploads/2021/05/smaller-web-graphic-1493x1000-1.jpg
END:VEVENT
BEGIN:VEVENT
DTSTART;TZID=America/Chicago:20210814T120000
DTEND;TZID=America/Chicago:20210814T170000
DTSTAMP:20260420T212125
CREATED:20210524T024859Z
LAST-MODIFIED:20210524T025218Z
UID:6322-1628942400-1628960400@vincentfink.com
SUMMARY:Sawyer Yards Second Saturday
DESCRIPTION:WINTER STREET STUDIOS – STUDIO B8 – FIRST FLOOR – ENTRANCE B \nSpend the afternoon wandering through Sawyer Yards’ six studio buildings and discover an extensive selection of painting\, sculpture\, jewelry\, photography\, clothing\, mixed media and more. Meet some of the 350+ artists\, learn about their work and add a new piece to your collection.\n\nWith an outdoor market\, The Market at Sawyer Yards\, breweries and fitness facilities all around\, it’s easy to spend your entire day at Sawyer Yards on the second Saturday of each month.\n\nParking is limited on campus so we encourage you to rideshare or carpool.\nDogs are not allowed inside the buildings (service dogs only).\n\nBuilding Locations:\nThe Silos at Sawyer -1502 Sawyer St.\nSilver Street – 2000 Edwards St.\nWinter Street Studios – 2101 Winter St.\nSummer Street Studios – 2204 Summer St.\nSabine Street Studios – 1907 Sabine St\nSpring Street Studios – 1824 Spring St.\n\nParking for the North Yard (Spring and Sabine Street Studios) can be found at 1824 Spring St.\n\nPlease note – Each artist at Sawyer Yards has varying hours of operations. If there is a specific artist you are interested in seeing\, reach out individually for their specific open hours or for appointments. See our artist directory listing here: https://www.sawyeryards.com/map-and-directory/artists\n\nCovid-19 Update:\nWe ask that attendees practice social distancing in our buildings and respect tenants that require masks to enter their studio.
URL:https://vincentfink.com/event/second-saturday-at-sawyer-yards-aug-2021/
LOCATION:Winter Street Studios\, 2101 Winter Street\, Houston\, TX\, 77007\, United States
CATEGORIES:General,Paintings
ATTACH;FMTTYPE=image/png:https://vincentfink.com/wp-content/uploads/2020/01/131b84_e04b73d9685240d5bf863b8a8def942cmv2_d_2501_1457_s_2.png
END:VEVENT
END:VCALENDAR