BEGIN:VCALENDAR
VERSION:2.0
PRODID:-//Vincent Fink - ECPv6.15.20//NONSGML v1.0//EN
CALSCALE:GREGORIAN
METHOD:PUBLISH
X-WR-CALNAME:Vincent Fink
X-ORIGINAL-URL:https://vincentfink.com
X-WR-CALDESC:Events for Vincent Fink
REFRESH-INTERVAL;VALUE=DURATION:PT1H
X-Robots-Tag:noindex
X-PUBLISHED-TTL:PT1H
BEGIN:VTIMEZONE
TZID:America/Chicago
BEGIN:DAYLIGHT
TZOFFSETFROM:-0600
TZOFFSETTO:-0500
TZNAME:CDT
DTSTART:20190310T080000
END:DAYLIGHT
BEGIN:STANDARD
TZOFFSETFROM:-0500
TZOFFSETTO:-0600
TZNAME:CST
DTSTART:20191103T070000
END:STANDARD
BEGIN:DAYLIGHT
TZOFFSETFROM:-0600
TZOFFSETTO:-0500
TZNAME:CDT
DTSTART:20200308T080000
END:DAYLIGHT
BEGIN:STANDARD
TZOFFSETFROM:-0500
TZOFFSETTO:-0600
TZNAME:CST
DTSTART:20201101T070000
END:STANDARD
BEGIN:DAYLIGHT
TZOFFSETFROM:-0600
TZOFFSETTO:-0500
TZNAME:CDT
DTSTART:20210314T080000
END:DAYLIGHT
BEGIN:STANDARD
TZOFFSETFROM:-0500
TZOFFSETTO:-0600
TZNAME:CST
DTSTART:20211107T070000
END:STANDARD
END:VTIMEZONE
BEGIN:VEVENT
DTSTART;TZID=America/Chicago:20201212T120000
DTEND;TZID=America/Chicago:20201212T170000
DTSTAMP:20260420T025115
CREATED:20201013T172339Z
LAST-MODIFIED:20201013T172438Z
UID:6090-1607774400-1607792400@vincentfink.com
SUMMARY:Sawyer Yards Second Saturday
DESCRIPTION:WINTER STREET STUDIOS – STUDIO B8 – FIRST FLOOR – ENTRANCE B \nCovid-19 Update:\nWe are excited to welcome you back. Please note that masks are required to enter buildings and many of our studio artists participating in Second Saturday require visitors to wear a mask in their studio. We ask that you practice social distancing within our buildings and respect tenants that are following city or state guidelines. \nSpend the afternoon wandering through Sawyer Yards’ six studio buildings and discover an extensive selection of painting\, sculpture\, jewelry\, photography\, clothing\, mixed media and more. Meet some of the 350+ artists\, learn about their work and add a new piece to your collection. With an outdoor market\, The Market at Sawyer Yards\, breweries and fitness facilities all around\, it’s easy to spend your entire day at Sawyer Yards on the second Saturday of each month. \nPlease note – Each artist at Sawyer Yards has varying hours of operations. If there is a specific artist you are interested in seeing\, reach out individually for their specific open hours or for appointments. See our artist directory listing here: https://www.sawyeryards.com/map-and-directory/artists \nParking is limited on campus so we encourage you to ride share or carpool. \nDogs are not allowed inside the buildings (service dogs only).
URL:https://vincentfink.com/event/second-saturday-at-sawyer-yards-dec-2020/
LOCATION:Winter Street Studios\, 2101 Winter Street\, Houston\, TX\, 77007\, United States
CATEGORIES:General,Paintings
ATTACH;FMTTYPE=image/png:https://vincentfink.com/wp-content/uploads/2020/01/131b84_e04b73d9685240d5bf863b8a8def942cmv2_d_2501_1457_s_2.png
END:VEVENT
END:VCALENDAR