BEGIN:VCALENDAR
VERSION:2.0
PRODID:-//Vincent Fink - ECPv6.15.20//NONSGML v1.0//EN
CALSCALE:GREGORIAN
METHOD:PUBLISH
X-ORIGINAL-URL:https://vincentfink.com
X-WR-CALDESC:Events for Vincent Fink
REFRESH-INTERVAL;VALUE=DURATION:PT1H
X-Robots-Tag:noindex
X-PUBLISHED-TTL:PT1H
BEGIN:VTIMEZONE
TZID:America/Chicago
BEGIN:DAYLIGHT
TZOFFSETFROM:-0600
TZOFFSETTO:-0500
TZNAME:CDT
DTSTART:20170312T080000
END:DAYLIGHT
BEGIN:STANDARD
TZOFFSETFROM:-0500
TZOFFSETTO:-0600
TZNAME:CST
DTSTART:20171105T070000
END:STANDARD
BEGIN:DAYLIGHT
TZOFFSETFROM:-0600
TZOFFSETTO:-0500
TZNAME:CDT
DTSTART:20180311T080000
END:DAYLIGHT
BEGIN:STANDARD
TZOFFSETFROM:-0500
TZOFFSETTO:-0600
TZNAME:CST
DTSTART:20181104T070000
END:STANDARD
BEGIN:DAYLIGHT
TZOFFSETFROM:-0600
TZOFFSETTO:-0500
TZNAME:CDT
DTSTART:20190310T080000
END:DAYLIGHT
BEGIN:STANDARD
TZOFFSETFROM:-0500
TZOFFSETTO:-0600
TZNAME:CST
DTSTART:20191103T070000
END:STANDARD
END:VTIMEZONE
BEGIN:VEVENT
DTSTART;TZID=America/Chicago:20181006T160000
DTEND;TZID=America/Chicago:20181006T210000
DTSTAMP:20260424T142407
CREATED:20180820T163705Z
LAST-MODIFIED:20180820T164128Z
UID:4659-1538841600-1538859600@vincentfink.com
SUMMARY:Sawyer Yards Fall Biannual Art Stroll
DESCRIPTION:WINTER STREET STUDIOS – STUDIO B8 – FIRST FLOOR – ENTRANCE B \nNearly 350 of Houston’s top local artists are giving Houstonians the unique opportunity to shop thousands of pieces of original works during the Sawyer Yards Fall Biannual Art Stroll on Sat.\, Oct. 6\, 2018. \nOrganized and hosted by one of the nation’s largest working creative communities\, visitors are invited to explore the campus’ six studio buildings including Sabine Street Studios\, Silver Street Studios\, Spring Street Studios\, Summer Street Studios\, The Silos at Sawyer Yards and Winter Street Studios to meet artists and view a fantastic array of paintings\, sculptures\, ceramics\, glass\, mosaic\, photography\, ceramics\, mixed media and jewelry. \nLive music\, light bites and drinks at each building will keep visitors energized for a colorful evening of meeting new artists and finding the perfect piece to add to your collection.
URL:https://vincentfink.com/event/sawyer-yards-fall-biannual-art-stroll/
LOCATION:Winter Street Studios\, 2101 Winter Street\, Houston\, TX\, 77007\, United States
ATTACH;FMTTYPE=image/jpeg:https://vincentfink.com/wp-content/uploads/2018/08/37488265_841048996019420_8502610991974973440_o.jpg
END:VEVENT
BEGIN:VEVENT
DTSTART;TZID=America/Chicago:20181013T120000
DTEND;TZID=America/Chicago:20181013T170000
DTSTAMP:20260424T142407
CREATED:20180711T021046Z
LAST-MODIFIED:20180711T021225Z
UID:4631-1539432000-1539450000@vincentfink.com
SUMMARY:Sawyer Yards Second Saturday
DESCRIPTION:Spend the afternoon wandering through Sawyer Yards‘ five studio buildings and discover an extensive selection of painting\, sculpture\, jewelry\, photography\, clothing\, mixed media and more. Meet some of the 300+ artists\, learn about their work and add a new piece (or two!) to your collection. Second Saturday is a free event and open to the public\, so bring your friends! \nPARTICIPATING SPACES:\nThe Silos on Sawyer\n1502 Sawyer St.\, Houston\, TX 77007 \nSpring Street Studios\n1824 Spring St.\, Houston\, TX 77007 \nSilver Street\n2000 Edwards St.\, Houston\, TX 77007\n\nSummer Street Studios\n2204 Summer St.\, Houston\, TX 77007 \nWinter Street Studios\n2101 Winter St.\, Houston\, TX 77007
URL:https://vincentfink.com/event/second-saturday-at-sawyer-yards-may-12-copy-copy-copy-copy/
LOCATION:Winter Street Studios\, 2101 Winter Street\, Houston\, TX\, 77007\, United States
ATTACH;FMTTYPE=image/jpeg:https://vincentfink.com/wp-content/uploads/2018/01/29060438_707727839351537_3731297107355588987_o.jpg
END:VEVENT
END:VCALENDAR