BEGIN:VCALENDAR
VERSION:2.0
PRODID:-//Vincent Fink - ECPv6.15.20//NONSGML v1.0//EN
CALSCALE:GREGORIAN
METHOD:PUBLISH
X-ORIGINAL-URL:https://vincentfink.com
X-WR-CALDESC:Events for Vincent Fink
REFRESH-INTERVAL;VALUE=DURATION:PT1H
X-Robots-Tag:noindex
X-PUBLISHED-TTL:PT1H
BEGIN:VTIMEZONE
TZID:America/Chicago
BEGIN:DAYLIGHT
TZOFFSETFROM:-0600
TZOFFSETTO:-0500
TZNAME:CDT
DTSTART:20110313T080000
END:DAYLIGHT
BEGIN:STANDARD
TZOFFSETFROM:-0500
TZOFFSETTO:-0600
TZNAME:CST
DTSTART:20111106T070000
END:STANDARD
BEGIN:DAYLIGHT
TZOFFSETFROM:-0600
TZOFFSETTO:-0500
TZNAME:CDT
DTSTART:20120311T080000
END:DAYLIGHT
BEGIN:STANDARD
TZOFFSETFROM:-0500
TZOFFSETTO:-0600
TZNAME:CST
DTSTART:20121104T070000
END:STANDARD
BEGIN:DAYLIGHT
TZOFFSETFROM:-0600
TZOFFSETTO:-0500
TZNAME:CDT
DTSTART:20130310T080000
END:DAYLIGHT
BEGIN:STANDARD
TZOFFSETFROM:-0500
TZOFFSETTO:-0600
TZNAME:CST
DTSTART:20131103T070000
END:STANDARD
BEGIN:DAYLIGHT
TZOFFSETFROM:-0600
TZOFFSETTO:-0500
TZNAME:CDT
DTSTART:20140309T080000
END:DAYLIGHT
BEGIN:STANDARD
TZOFFSETFROM:-0500
TZOFFSETTO:-0600
TZNAME:CST
DTSTART:20141102T070000
END:STANDARD
END:VTIMEZONE
BEGIN:VEVENT
DTSTART;TZID=America/Chicago:20131207T180000
DTEND;TZID=America/Chicago:20131207T212500
DTSTAMP:20260424T160652
CREATED:20131206T222351Z
LAST-MODIFIED:20131206T222351Z
UID:2764-1386439200-1386451500@vincentfink.com
SUMMARY:Artist Holiday Art Party
DESCRIPTION:Join the artist of Winter Street Studios for a festive evening of friends\, falalala and of course great art! Our halls and our studios will be decked out to celebrate the season. We can help you get your shopping done with thoughtful art gifts that will get everyone crossed off your list. All are welcome so make sure and bring a friend! \nFacebook event page HERE
URL:https://vincentfink.com/event/artist-holiday-art-party/
CATEGORIES:General,Paintings,Prints
END:VEVENT
BEGIN:VEVENT
DTSTART;TZID=America/Chicago:20130803T180000
DTEND;TZID=America/Chicago:20130803T220000
DTSTAMP:20260424T160652
CREATED:20130729T025858Z
LAST-MODIFIED:20130729T025858Z
UID:2454-1375552800-1375567200@vincentfink.com
SUMMARY:2013 White Linen Night in The Heights
DESCRIPTION:White Linen Night in The Heights started in 2006 at the suggestion of New Orleans native and then Hurricane Katrina transplants Chris Thayer and his wife\, Kay\, who had opened a boutique on 19th Street when they were displaced by the storm. The event was patterned after a similar event in The French Quarter Arts district in New Orleans where residents came out dressed in their white linen finest to see local art. The Thayers and the Heights First Saturday group organized the event as a way to promote interest and traffic  to 19th street so local businesses could thrive in the hot Houston summer. The event has now grown to become a neighborhood wide event that is known throughout Greater Houston. \nhttp://www.theheightswhitelinennight.com/ \nhttps://www.facebook.com/events/546741205374261/
URL:https://vincentfink.com/event/2013-white-linen-night-in-the-heights/
LOCATION:The Heights\, 540 W 19th St\, Houston\, 77008\, United States
CATEGORIES:General,Paintings,Prints
END:VEVENT
BEGIN:VEVENT
DTSTART;VALUE=DATE:20120331
DTEND;VALUE=DATE:20120402
DTSTAMP:20260424T160652
CREATED:20120322T164011Z
LAST-MODIFIED:20120322T164622Z
UID:959-1333152000-1333324740@vincentfink.com
SUMMARY:Illustrate The End - March 31\, 2012
DESCRIPTION:Check out my Free art and music show. Starts at 8pm and doesn’t end till 4am! ¡Ay\, caramba! Will have my latest work on display… here’s peak: \nMetamorphosis Stage 2 of 4: Front View\nand the flyer: \nbring your friends! open to the public for 1 night only\, artworks for sale.\nRSVP and more details on facebook: \nhttp://www.facebook.com/events/251027641646499/
URL:https://vincentfink.com/event/illustratetheend/
LOCATION:El Rincon Social\, 3210 Preston St.\, Houston\, TX\, 77003\, United States
CATEGORIES:General,Music,Paintings,Prints,T-shirts
END:VEVENT
BEGIN:VEVENT
DTSTART;VALUE=DATE:20120128
DTEND;VALUE=DATE:20120130
DTSTAMP:20260424T160652
CREATED:20120102T081729Z
LAST-MODIFIED:20120102T082745Z
UID:691-1327708800-1327881540@vincentfink.com
SUMMARY:The 2nd Annual Main Street Block Party
DESCRIPTION:Details
URL:https://vincentfink.com/event/the-2nd-annual-main-street-block-party/
LOCATION:The Continental Club| The Big Top | The Mink | The Backroom\, 3718 Main St\, Houston\, TX\, 77002\, United States
CATEGORIES:Paintings,Prints,T-shirts
END:VEVENT
BEGIN:VEVENT
DTSTART;VALUE=DATE:20120106
DTEND;VALUE=DATE:20120107
DTSTAMP:20260424T160652
CREATED:20120102T074110Z
LAST-MODIFIED:20120102T074110Z
UID:683-1325808000-1325894340@vincentfink.com
SUMMARY:EN.art show and market
DESCRIPTION:
URL:https://vincentfink.com/event/en-art-show-and-market/
LOCATION:EN.art show and market\, 7304 capitol st.\, Houston\, TX\,  77011\, United States
CATEGORIES:Paintings,Prints
END:VEVENT
END:VCALENDAR