BEGIN:VCALENDAR
VERSION:2.0
PRODID:-//Vincent Fink - ECPv6.15.20//NONSGML v1.0//EN
CALSCALE:GREGORIAN
METHOD:PUBLISH
X-WR-CALNAME:Vincent Fink
X-ORIGINAL-URL:https://vincentfink.com
X-WR-CALDESC:Events for Vincent Fink
REFRESH-INTERVAL;VALUE=DURATION:PT1H
X-Robots-Tag:noindex
X-PUBLISHED-TTL:PT1H
BEGIN:VTIMEZONE
TZID:America/Chicago
BEGIN:DAYLIGHT
TZOFFSETFROM:-0600
TZOFFSETTO:-0500
TZNAME:CDT
DTSTART:20200308T080000
END:DAYLIGHT
BEGIN:STANDARD
TZOFFSETFROM:-0500
TZOFFSETTO:-0600
TZNAME:CST
DTSTART:20201101T070000
END:STANDARD
BEGIN:DAYLIGHT
TZOFFSETFROM:-0600
TZOFFSETTO:-0500
TZNAME:CDT
DTSTART:20210314T080000
END:DAYLIGHT
BEGIN:STANDARD
TZOFFSETFROM:-0500
TZOFFSETTO:-0600
TZNAME:CST
DTSTART:20211107T070000
END:STANDARD
BEGIN:DAYLIGHT
TZOFFSETFROM:-0600
TZOFFSETTO:-0500
TZNAME:CDT
DTSTART:20220313T080000
END:DAYLIGHT
BEGIN:STANDARD
TZOFFSETFROM:-0500
TZOFFSETTO:-0600
TZNAME:CST
DTSTART:20221106T070000
END:STANDARD
END:VTIMEZONE
BEGIN:VEVENT
DTSTART;TZID=America/Chicago:20211002T170000
DTEND;TZID=America/Chicago:20211002T210000
DTSTAMP:20260422T215345
CREATED:20210916T175349Z
LAST-MODIFIED:20210916T175642Z
UID:6521-1633194000-1633208400@vincentfink.com
SUMMARY:Fall Biannual Art Show & Sale
DESCRIPTION:WINTER STREET STUDIOS – STUDIO B8 – FIRST FLOOR – ENTRANCE B \n\n\nCelebrate and explore Houston’s creative heart during the Fall Biannual Art Show & Sale. Meet the artists in their studios\, view the latest gallery exhibitions\, and enjoy an immersive art experience.\n\nSawyer Yards is home to one of the largest working artist communities in the country\, contemporary art galleries\, and an incredible group of designers and makers dedicated to preserving and supporting artistic expression. Shop thousands of original artworks at a variety of price points\, discover new artists and add a piece to your collection.\n\nFree and open to the public.\n\nParticipating Studios:\nSilver Street Studios | 2000 Edwards St.\, Houston\, TX 77007\nThe Silos at Sawyer Yards | 1502 Sawyer St.\, Houston TX 77007\nWinter Street Studios | 2101 Winter St.\, Houston TX 77007\nSpring Street Studios | 1824 Spring St.\, Houston TX 77007\nSabine Street Studios | 1907 Sabine St.\, Houston TX 77007\nSummer Street Studios | 2204 Summer St. Houston TX 77007\n\nCovid-19 Response: We ask that attendees practice social distancing in our buildings and respect tenants that require masks to enter their studio.\nPlease note – no dogs allowed inside buildings\, service dogs only.
URL:https://vincentfink.com/event/fall_biannual_2021/
LOCATION:Winter Street Studios\, 2101 Winter Street\, Houston\, TX\, 77007\, United States
CATEGORIES:General,Paintings
ATTACH;FMTTYPE=image/jpeg:https://vincentfink.com/wp-content/uploads/2021/09/228899352_2844318362359130_4374631123563913525_n.jpg
END:VEVENT
END:VCALENDAR