BEGIN:VCALENDAR
VERSION:2.0
PRODID:-//Vincent Fink - ECPv6.15.20//NONSGML v1.0//EN
CALSCALE:GREGORIAN
METHOD:PUBLISH
X-ORIGINAL-URL:https://vincentfink.com
X-WR-CALDESC:Events for Vincent Fink
REFRESH-INTERVAL;VALUE=DURATION:PT1H
X-Robots-Tag:noindex
X-PUBLISHED-TTL:PT1H
BEGIN:VTIMEZONE
TZID:America/Chicago
BEGIN:DAYLIGHT
TZOFFSETFROM:-0600
TZOFFSETTO:-0500
TZNAME:CDT
DTSTART:20190310T080000
END:DAYLIGHT
BEGIN:STANDARD
TZOFFSETFROM:-0500
TZOFFSETTO:-0600
TZNAME:CST
DTSTART:20191103T070000
END:STANDARD
BEGIN:DAYLIGHT
TZOFFSETFROM:-0600
TZOFFSETTO:-0500
TZNAME:CDT
DTSTART:20200308T080000
END:DAYLIGHT
BEGIN:STANDARD
TZOFFSETFROM:-0500
TZOFFSETTO:-0600
TZNAME:CST
DTSTART:20201101T070000
END:STANDARD
BEGIN:DAYLIGHT
TZOFFSETFROM:-0600
TZOFFSETTO:-0500
TZNAME:CDT
DTSTART:20210314T080000
END:DAYLIGHT
BEGIN:STANDARD
TZOFFSETFROM:-0500
TZOFFSETTO:-0600
TZNAME:CST
DTSTART:20211107T070000
END:STANDARD
END:VTIMEZONE
BEGIN:VEVENT
DTSTART;TZID=America/Chicago:20201129T120000
DTEND;TZID=America/Chicago:20201129T170000
DTSTAMP:20260420T224244
CREATED:20201119T184226Z
LAST-MODIFIED:20201119T185412Z
UID:6156-1606651200-1606669200@vincentfink.com
SUMMARY:Artist Sunday at Sawyer Yards
DESCRIPTION:WINTER STREET STUDIOS – STUDIO B8 – FIRST FLOOR – ENTRANCE B \nSawyer Yards has partnered with #ArtistsSunday\, a national movement to encourage consumers to #ShopArt the Sunday after Thanksgiving\, and give artist-created gifts this holiday season. It’s like Black Friday or Small Business Saturday but for art. Join us in supporting our local artists and shop art the Sunday after Thanksgiving.\nConsider unique\, handcrafted\, personal gifts for your loved ones this year. Plus\, by shopping with artists you’re also supporting the local economy! #Shopart this holiday season.\n\nSawyer Yards is home to one of the largest working artist communities in the country\, contemporary art galleries\, and an incredible group of designers and makers dedicated to preserving and supporting artistic expression. Shop thousands of original artworks at a variety of price points\, discover new artists and add a piece to your collection.\n\nFree and open to the public.\n\nParticipating Studios:\nSilver Street Studios | 2000 Edwards St.\, Houston\, TX 77007\nThe Silos at Sawyer Yards | 1502 Sawyer St.\, Houston TX 77007\nWinter Street Studios | 2101 Winter St.\, Houston TX 77007\nSpring Street Studios | 1824 Spring St.\, Houston TX 77007\nSabine Street Studios | 1907 Sabine St.\, Houston TX 77007\n\nCovid-19 Response: We require masks to be worn and ask that attendees practice social distancing in our buildings.
URL:https://vincentfink.com/event/sawyer-yards-artists-sunday/
LOCATION:Winter Street Studios\, 2101 Winter Street\, Houston\, TX\, 77007\, United States
CATEGORIES:General,Paintings
ATTACH;FMTTYPE=image/jpeg:https://vincentfink.com/wp-content/uploads/2020/11/FinkArtistSunday.jpg
END:VEVENT
END:VCALENDAR