BEGIN:VCALENDAR
VERSION:2.0
PRODID:-//Vincent Fink - ECPv6.15.20//NONSGML v1.0//EN
CALSCALE:GREGORIAN
METHOD:PUBLISH
X-WR-CALNAME:Vincent Fink
X-ORIGINAL-URL:https://vincentfink.com
X-WR-CALDESC:Events for Vincent Fink
REFRESH-INTERVAL;VALUE=DURATION:PT1H
X-Robots-Tag:noindex
X-PUBLISHED-TTL:PT1H
BEGIN:VTIMEZONE
TZID:America/Chicago
BEGIN:DAYLIGHT
TZOFFSETFROM:-0600
TZOFFSETTO:-0500
TZNAME:CDT
DTSTART:20120311T080000
END:DAYLIGHT
BEGIN:STANDARD
TZOFFSETFROM:-0500
TZOFFSETTO:-0600
TZNAME:CST
DTSTART:20121104T070000
END:STANDARD
BEGIN:DAYLIGHT
TZOFFSETFROM:-0600
TZOFFSETTO:-0500
TZNAME:CDT
DTSTART:20130310T080000
END:DAYLIGHT
BEGIN:STANDARD
TZOFFSETFROM:-0500
TZOFFSETTO:-0600
TZNAME:CST
DTSTART:20131103T070000
END:STANDARD
BEGIN:DAYLIGHT
TZOFFSETFROM:-0600
TZOFFSETTO:-0500
TZNAME:CDT
DTSTART:20140309T080000
END:DAYLIGHT
BEGIN:STANDARD
TZOFFSETFROM:-0500
TZOFFSETTO:-0600
TZNAME:CST
DTSTART:20141102T070000
END:STANDARD
END:VTIMEZONE
BEGIN:VEVENT
DTSTART;TZID=America/Chicago:20131214T100000
DTEND;TZID=America/Chicago:20131214T170000
DTSTAMP:20260424T181455
CREATED:20131206T221729Z
LAST-MODIFIED:20131206T222111Z
UID:2760-1387015200-1387040400@vincentfink.com
SUMMARY:THE LONE STAR BAZAAR
DESCRIPTION:COME SUPPORT YOUR LOCAL CREATORS! ART\, ANTIQUES\, COMICS\, TOYS\, VINTAGE AND MODERN APPAREL\, MUSIC AND YUMMIES. COME HANG OUT WITH US MONTROSE STYLE. \nFacebook event page HERE
URL:https://vincentfink.com/event/the-lone-star-bazaar-2/
LOCATION:Numbers Night Club\, 300 Westheimer Rd\, Houston\, 77006\, United States
CATEGORIES:General,Paintings,Prints
END:VEVENT
BEGIN:VEVENT
DTSTART;TZID=America/Chicago:20131214T120000
DTEND;TZID=America/Chicago:20131214T170000
DTSTAMP:20260424T181455
CREATED:20131206T222602Z
LAST-MODIFIED:20131206T222617Z
UID:2767-1387022400-1387040400@vincentfink.com
SUMMARY:Yelp's Nifty Under 50 Holiday Pop-Up Market
DESCRIPTION:You’ve heard of Black Friday. But have you experienced Yelp’s Nifty Under $50 Saturday? If not\, come see what you’ve been missing!  \n This handpicked holiday market has something everyone on your list. 40+ top-rated retailers\, local designers\, and food artisans will pop-up to sell their swanky wares. Best of all\, every price tag is $50 or less! \n And hey\, Yelp retail therapy wouldn’t be complete without some local treats! Enjoy complimentary cocktails\, teas\, coffee\, sweets and baked goodies\, a photo booth\, holiday music and FREE gift wrapping for all!!! \n Admission is free! Mark your calendars and spread the good word! \nFacebook event page HERE
URL:https://vincentfink.com/event/yelps-nifty-under-50-holiday-pop-up-market/
LOCATION:TX
CATEGORIES:General,T-shirts
END:VEVENT
BEGIN:VEVENT
DTSTART;TZID=America/Chicago:20131214T190000
DTEND;TZID=America/Chicago:20131214T220000
DTSTAMP:20260424T181455
CREATED:20131206T222926Z
LAST-MODIFIED:20131206T222926Z
UID:2771-1387047600-1387058400@vincentfink.com
SUMMARY:RACE!
DESCRIPTION:A Kallinen Art Happening. “RACE!” a show about “RACE” curated by an Asian (Kyle Fu)\, a White (Randall Kallinen)\, a Black (TBA)\, a Hispanic (John Paul Hartman) and a Native American (TBA)(or chose descriptors as you see fit). Houston was just declared the most ethnically diverse city IN AMERiCA! Over 30 Great Artists! Videos\, photos\, painting\, scupture\, performance art\, spoken word\, music\, clothing\, etc..  \nFacebook event page HERE
URL:https://vincentfink.com/event/race/
LOCATION:Kallinen Art Studio and Law Office\, 511 Broadway\, Houston\, TX\, 77012\, United States
CATEGORIES:General,Paintings
END:VEVENT
END:VCALENDAR