BEGIN:VCALENDAR
VERSION:2.0
PRODID:-//Vincent Fink - ECPv6.15.20//NONSGML v1.0//EN
CALSCALE:GREGORIAN
METHOD:PUBLISH
X-WR-CALNAME:Vincent Fink
X-ORIGINAL-URL:https://vincentfink.com
X-WR-CALDESC:Events for Vincent Fink
REFRESH-INTERVAL;VALUE=DURATION:PT1H
X-Robots-Tag:noindex
X-PUBLISHED-TTL:PT1H
BEGIN:VTIMEZONE
TZID:America/Chicago
BEGIN:DAYLIGHT
TZOFFSETFROM:-0600
TZOFFSETTO:-0500
TZNAME:CDT
DTSTART:20120311T080000
END:DAYLIGHT
BEGIN:STANDARD
TZOFFSETFROM:-0500
TZOFFSETTO:-0600
TZNAME:CST
DTSTART:20121104T070000
END:STANDARD
BEGIN:DAYLIGHT
TZOFFSETFROM:-0600
TZOFFSETTO:-0500
TZNAME:CDT
DTSTART:20130310T080000
END:DAYLIGHT
BEGIN:STANDARD
TZOFFSETFROM:-0500
TZOFFSETTO:-0600
TZNAME:CST
DTSTART:20131103T070000
END:STANDARD
BEGIN:DAYLIGHT
TZOFFSETFROM:-0600
TZOFFSETTO:-0500
TZNAME:CDT
DTSTART:20140309T080000
END:DAYLIGHT
BEGIN:STANDARD
TZOFFSETFROM:-0500
TZOFFSETTO:-0600
TZNAME:CST
DTSTART:20141102T070000
END:STANDARD
END:VTIMEZONE
BEGIN:VEVENT
DTSTART;TZID=America/Chicago:20131018T120000
DTEND;TZID=America/Chicago:20131021T120000
DTSTAMP:20260423T233517
CREATED:20130917T052852Z
LAST-MODIFIED:20130917T054728Z
UID:2627-1382097600-1382356800@vincentfink.com
SUMMARY:Art Outside 2013
DESCRIPTION:Art Outside is happening October 18-21\, 2013 at Apache Pass in Downtown Texas. http://artoutside.org/\n\nWHAT IS ART OUTSIDE? Art Outside is a family-friendly celebration of art in all its forms in a beautiful central Texas setting.  AO brings together a wide variety of local and international artists that share their art\, music\, performance and many other creative forms of expression with our growing community….\n\nhttp://beticketing.com/artoutside\nArt Outside is an ALL AGES event! 12 and under get in free! 17 and under must be accompanied by parent or legal guardian.\n\nFacebook Page: https://www.facebook.com/ArtOutside\nTwitter: https://twitter.com/ArtOutside\nYouTube: http://www.youtube.com/ArtSeenAlliance
URL:https://vincentfink.com/event/art-outside-2013/
LOCATION:Apache Pass\, 9132 N. FM 908\, Rockdale\, TX\, 76567\, United States
CATEGORIES:General,Paintings,T-shirts
END:VEVENT
END:VCALENDAR