BEGIN:VCALENDAR
VERSION:2.0
PRODID:-//Vincent Fink - ECPv6.15.20//NONSGML v1.0//EN
CALSCALE:GREGORIAN
METHOD:PUBLISH
X-WR-CALNAME:Vincent Fink
X-ORIGINAL-URL:https://vincentfink.com
X-WR-CALDESC:Events for Vincent Fink
REFRESH-INTERVAL;VALUE=DURATION:PT1H
X-Robots-Tag:noindex
X-PUBLISHED-TTL:PT1H
BEGIN:VTIMEZONE
TZID:America/Chicago
BEGIN:DAYLIGHT
TZOFFSETFROM:-0600
TZOFFSETTO:-0500
TZNAME:CDT
DTSTART:20120311T080000
END:DAYLIGHT
BEGIN:STANDARD
TZOFFSETFROM:-0500
TZOFFSETTO:-0600
TZNAME:CST
DTSTART:20121104T070000
END:STANDARD
BEGIN:DAYLIGHT
TZOFFSETFROM:-0600
TZOFFSETTO:-0500
TZNAME:CDT
DTSTART:20130310T080000
END:DAYLIGHT
BEGIN:STANDARD
TZOFFSETFROM:-0500
TZOFFSETTO:-0600
TZNAME:CST
DTSTART:20131103T070000
END:STANDARD
BEGIN:DAYLIGHT
TZOFFSETFROM:-0600
TZOFFSETTO:-0500
TZNAME:CDT
DTSTART:20140309T080000
END:DAYLIGHT
BEGIN:STANDARD
TZOFFSETFROM:-0500
TZOFFSETTO:-0600
TZNAME:CST
DTSTART:20141102T070000
END:STANDARD
END:VTIMEZONE
BEGIN:VEVENT
DTSTART;TZID=America/Chicago:20131004T190000
DTEND;TZID=America/Chicago:20131004T210000
DTSTAMP:20260423T204447
CREATED:20130917T050516Z
LAST-MODIFIED:20130917T050516Z
UID:2613-1380913200-1380920400@vincentfink.com
SUMMARY:Wine Share/Art Show
DESCRIPTION:
URL:https://vincentfink.com/event/wine-shareart-show/
LOCATION:Studio 1093\, 34935 FM 1093\, Simonton\, 77476\, United States
CATEGORIES:General,Paintings
END:VEVENT
END:VCALENDAR